BEGIN:VCALENDAR
VERSION:2.0
PRODID:-//Axis Church | Medford | 631.732.7682 - ECPv5.14.0.4//NONSGML v1.0//EN
CALSCALE:GREGORIAN
METHOD:PUBLISH
X-WR-CALNAME:Axis Church | Medford | 631.732.7682
X-ORIGINAL-URL:https://axisny.org
X-WR-CALDESC:Events for Axis Church | Medford | 631.732.7682
BEGIN:VTIMEZONE
TZID:UTC
BEGIN:STANDARD
TZOFFSETFROM:+0000
TZOFFSETTO:+0000
TZNAME:UTC
DTSTART:20240101T000000
END:STANDARD
END:VTIMEZONE
BEGIN:VEVENT
DTSTART;TZID=UTC:20240518T110000
DTEND;TZID=UTC:20240518T130000
DTSTAMP:20260422T115805
CREATED:20240422T164407Z
LAST-MODIFIED:20240422T164423Z
UID:2974-1716030000-1716037200@axisny.org
SUMMARY:Annual Mother/Daughter Tea
DESCRIPTION:Join Us for Our Annual Mother/Daughter Tea \nSaturday\, May 18th at 11:00AM \nat the Axis Café.  \nIf you would like to attend this amazing event\,\nplease see DyAnna or Angela at the information desk\nfor more details and to get your tickets.  \nTickets are $5 per adult and $1 per child (12yrs and under)\nand are non-refundable.
URL:https://axisny.org/event/annual-mother-daughter-tea/
LOCATION:Axis Cafe\, 2884 Rt. 112\, Medford\, 11763\, United States
CATEGORIES:Kids
ORGANIZER;CN="Axis%20Church":MAILTO:info@axisny.org
END:VEVENT
END:VCALENDAR