BEGIN:VCALENDAR
VERSION:2.0
PRODID:-//Axis Church | Medford | 631.732.7682 - ECPv5.14.0.4//NONSGML v1.0//EN
CALSCALE:GREGORIAN
METHOD:PUBLISH
X-WR-CALNAME:Axis Church | Medford | 631.732.7682
X-ORIGINAL-URL:https://axisny.org
X-WR-CALDESC:Events for Axis Church | Medford | 631.732.7682
BEGIN:VTIMEZONE
TZID:UTC
BEGIN:STANDARD
TZOFFSETFROM:+0000
TZOFFSETTO:+0000
TZNAME:UTC
DTSTART:20240101T000000
END:STANDARD
END:VTIMEZONE
BEGIN:VEVENT
DTSTART;TZID=UTC:20240322T200000
DTEND;TZID=UTC:20240322T220000
DTSTAMP:20260420T001908
CREATED:20240318T151939Z
LAST-MODIFIED:20240318T152011Z
UID:2831-1711137600-1711144800@axisny.org
SUMMARY:Axis 412 Youth Ministry
DESCRIPTION:Friday 3/22\nAxis 412 Youth\nAxis Cafe\n8-10:00 pm
URL:https://axisny.org/event/axis-412-youth-ministry-032224/
LOCATION:Axis Cafe\, 2884 Rt. 112\, Medford\, 11763\, United States
CATEGORIES:Community,Young Adults
ORGANIZER;CN="Axis%20Church":MAILTO:info@axisny.org
END:VEVENT
END:VCALENDAR