BEGIN:VCALENDAR
VERSION:2.0
PRODID:-//Axis Church | Medford | 631.732.7682 - ECPv5.14.0.4//NONSGML v1.0//EN
CALSCALE:GREGORIAN
METHOD:PUBLISH
X-WR-CALNAME:Axis Church | Medford | 631.732.7682
X-ORIGINAL-URL:https://axisny.org
X-WR-CALDESC:Events for Axis Church | Medford | 631.732.7682
BEGIN:VTIMEZONE
TZID:UTC
BEGIN:STANDARD
TZOFFSETFROM:+0000
TZOFFSETTO:+0000
TZNAME:UTC
DTSTART:20240101T000000
END:STANDARD
END:VTIMEZONE
BEGIN:VEVENT
DTSTART;TZID=UTC:20240517T200000
DTEND;TZID=UTC:20240517T220000
DTSTAMP:20260422T145008
CREATED:20240509T215626Z
LAST-MODIFIED:20240509T215649Z
UID:3081-1715976000-1715983200@axisny.org
SUMMARY:Axis 412 Youth Ministry
DESCRIPTION:Friday 5/17\nAxis 412 Youth\nAxis Cafe\n8-10:00 pm
URL:https://axisny.org/event/axis-412-youth-ministry-051724/
LOCATION:Axis Cafe\, 2884 Rt. 112\, Medford\, 11763\, United States
CATEGORIES:Community,Young Adults
ORGANIZER;CN="Axis%20Church":MAILTO:info@axisny.org
END:VEVENT
END:VCALENDAR