BEGIN:VCALENDAR
VERSION:2.0
PRODID:-//Axis Church | Medford | 631.732.7682 - ECPv5.14.0.4//NONSGML v1.0//EN
CALSCALE:GREGORIAN
METHOD:PUBLISH
X-WR-CALNAME:Axis Church | Medford | 631.732.7682
X-ORIGINAL-URL:https://axisny.org
X-WR-CALDESC:Events for Axis Church | Medford | 631.732.7682
BEGIN:VTIMEZONE
TZID:UTC
BEGIN:STANDARD
TZOFFSETFROM:+0000
TZOFFSETTO:+0000
TZNAME:UTC
DTSTART:20240101T000000
END:STANDARD
END:VTIMEZONE
BEGIN:VEVENT
DTSTART;TZID=UTC:20240119T200000
DTEND;TZID=UTC:20240119T220000
DTSTAMP:20260423T002000
CREATED:20240112T234343Z
LAST-MODIFIED:20240112T234343Z
UID:2655-1705694400-1705701600@axisny.org
SUMMARY:Axis 412 Youth Ministry
DESCRIPTION:Youth Group @ Axis Cafe\n8-10:00 PM\nFriday\, January 19\, 2024
URL:https://axisny.org/event/axis-412-youth-ministry/
LOCATION:Axis Cafe\, 2884 Rt. 112\, Medford\, 11763\, United States
ORGANIZER;CN="Axis%20Church":MAILTO:info@axisny.org
END:VEVENT
END:VCALENDAR