BEGIN:VCALENDAR
VERSION:2.0
PRODID:-//Axis Church | Medford | 631.732.7682 - ECPv5.14.0.4//NONSGML v1.0//EN
CALSCALE:GREGORIAN
METHOD:PUBLISH
X-WR-CALNAME:Axis Church | Medford | 631.732.7682
X-ORIGINAL-URL:https://axisny.org
X-WR-CALDESC:Events for Axis Church | Medford | 631.732.7682
BEGIN:VTIMEZONE
TZID:UTC
BEGIN:STANDARD
TZOFFSETFROM:+0000
TZOFFSETTO:+0000
TZNAME:UTC
DTSTART:20240101T000000
END:STANDARD
END:VTIMEZONE
BEGIN:VEVENT
DTSTART;TZID=UTC:20240310T093000
DTEND;TZID=UTC:20240310T103000
DTSTAMP:20260423T025345
CREATED:20240301T184848Z
LAST-MODIFIED:20240301T184917Z
UID:2732-1710063000-1710066600@axisny.org
SUMMARY:Axis Cafe Experience
DESCRIPTION:Sunday 3/10\nAxis Cafe\nExperience\n9:30 AM
URL:https://axisny.org/event/axis-cafe-experience-031024/
LOCATION:Axis Cafe\, 2884 Rt. 112\, Medford\, 11763\, United States
CATEGORIES:Community,Outreach
ORGANIZER;CN="Axis%20Church":MAILTO:info@axisny.org
END:VEVENT
END:VCALENDAR