BEGIN:VCALENDAR
VERSION:2.0
PRODID:-//Axis Church | Medford | 631.732.7682 - ECPv5.14.0.4//NONSGML v1.0//EN
CALSCALE:GREGORIAN
METHOD:PUBLISH
X-WR-CALNAME:Axis Church | Medford | 631.732.7682
X-ORIGINAL-URL:https://axisny.org
X-WR-CALDESC:Events for Axis Church | Medford | 631.732.7682
BEGIN:VTIMEZONE
TZID:UTC
BEGIN:STANDARD
TZOFFSETFROM:+0000
TZOFFSETTO:+0000
TZNAME:UTC
DTSTART:20240101T000000
END:STANDARD
END:VTIMEZONE
BEGIN:VEVENT
DTSTART;TZID=UTC:20240702T150000
DTEND;TZID=UTC:20240702T170000
DTSTAMP:20260422T090220
CREATED:20240627T165718Z
LAST-MODIFIED:20240627T165748Z
UID:3283-1719932400-1719939600@axisny.org
SUMMARY:Axis Community Center Food Pantry
DESCRIPTION:Axis Community Center Food Pantry\nJoin us at the Axis Community Center in Port Jefferson\, NY. \nDate:\nTuesday\, July 2nd\, 2024 \nTime:\n3:00 PM – 5:00 PM \nLocation:\nAxis Community Center\n19 N. Country Road\nPort Jefferson\, NY 11777.
URL:https://axisny.org/event/axis-community-center-food-pantry-070224/
LOCATION:Axis Community Center\, 2839 Route 112\, Medford\, NY\, 11763
CATEGORIES:Community,Outreach
ORGANIZER;CN="Axis%20Church":MAILTO:info@axisny.org
END:VEVENT
END:VCALENDAR