BEGIN:VCALENDAR
VERSION:2.0
PRODID:-//Axis Church | Medford | 631.732.7682 - ECPv5.14.0.4//NONSGML v1.0//EN
CALSCALE:GREGORIAN
METHOD:PUBLISH
X-WR-CALNAME:Axis Church | Medford | 631.732.7682
X-ORIGINAL-URL:https://axisny.org
X-WR-CALDESC:Events for Axis Church | Medford | 631.732.7682
BEGIN:VTIMEZONE
TZID:UTC
BEGIN:STANDARD
TZOFFSETFROM:+0000
TZOFFSETTO:+0000
TZNAME:UTC
DTSTART:20240101T000000
END:STANDARD
END:VTIMEZONE
BEGIN:VEVENT
DTSTART;VALUE=DATE:20240308
DTEND;VALUE=DATE:20240311
DTSTAMP:20260422T120830
CREATED:20240223T204626Z
LAST-MODIFIED:20240223T204626Z
UID:2686-1709856000-1710115199@axisny.org
SUMMARY:Axis Men’s Annual Shelter Island Retreat
DESCRIPTION:Friday\, March 8th – Sunday the 10th \nThe annual retreat is Friday\, March 8th through Sunday the 10th.\nThere is a $50 deposit per guy (Non-refundable).\nThere is limited room\, so it’s first come first serve.\nIf you would like to be a part of this amazing weekend of fellowship\,\nplease sign up and leave deposit at the information desk in the foyer.
URL:https://axisny.org/event/axis-mens-annual-shelter-island-retreat/
LOCATION:Axis Church\, 2839 NY-112\, Medford\, NY\, 11763\, United States
CATEGORIES:Fellowship,Outreach,Retreat
END:VEVENT
END:VCALENDAR