BEGIN:VCALENDAR
VERSION:2.0
PRODID:-//Axis Church | Medford | 631.732.7682 - ECPv5.14.0.4//NONSGML v1.0//EN
CALSCALE:GREGORIAN
METHOD:PUBLISH
X-WR-CALNAME:Axis Church | Medford | 631.732.7682
X-ORIGINAL-URL:https://axisny.org
X-WR-CALDESC:Events for Axis Church | Medford | 631.732.7682
BEGIN:VTIMEZONE
TZID:UTC
BEGIN:STANDARD
TZOFFSETFROM:+0000
TZOFFSETTO:+0000
TZNAME:UTC
DTSTART:20240101T000000
END:STANDARD
END:VTIMEZONE
BEGIN:VEVENT
DTSTART;TZID=UTC:20240313T190000
DTEND;TZID=UTC:20240313T210000
DTSTAMP:20260422T175132
CREATED:20240312T180318Z
LAST-MODIFIED:20240312T180347Z
UID:2774-1710356400-1710363600@axisny.org
SUMMARY:Bible Study - Revelation
DESCRIPTION:WEDNESDAY 03/13\nBible Study\nRevelation\nAxis Church\n7:00PM
URL:https://axisny.org/event/bible-study-revelation-031324/
LOCATION:Axis Church\, 2839 NY-112\, Medford\, NY\, 11763\, United States
CATEGORIES:Bible Study
ORGANIZER;CN="Axis%20Church":MAILTO:info@axisny.org
END:VEVENT
END:VCALENDAR