BEGIN:VCALENDAR
VERSION:2.0
PRODID:-//Axis Church | Medford | 631.732.7682 - ECPv5.14.0.4//NONSGML v1.0//EN
CALSCALE:GREGORIAN
METHOD:PUBLISH
X-WR-CALNAME:Axis Church | Medford | 631.732.7682
X-ORIGINAL-URL:https://axisny.org
X-WR-CALDESC:Events for Axis Church | Medford | 631.732.7682
BEGIN:VTIMEZONE
TZID:UTC
BEGIN:STANDARD
TZOFFSETFROM:+0000
TZOFFSETTO:+0000
TZNAME:UTC
DTSTART:20240101T000000
END:STANDARD
END:VTIMEZONE
BEGIN:VEVENT
DTSTART;TZID=UTC:20240321T110000
DTEND;TZID=UTC:20240321T130000
DTSTAMP:20260420T055250
CREATED:20240312T175231Z
LAST-MODIFIED:20240312T175231Z
UID:2764-1711018800-1711026000@axisny.org
SUMMARY:Candy Bag Stuffing & Pulling Palms
DESCRIPTION:Candy Bags and Pulling Palms \nWe are asking for volunteers to help with stuffing\nthe loot bags and pulling palms\non Thursday\, March 21st at 11:00AM at Axis Church.
URL:https://axisny.org/event/candy-bag-stuffing-pulling-palms/
LOCATION:Axis Church\, 2839 NY-112\, Medford\, NY\, 11763\, United States
CATEGORIES:Community
ORGANIZER;CN="Axis%20Church":MAILTO:info@axisny.org
END:VEVENT
END:VCALENDAR