BEGIN:VCALENDAR
VERSION:2.0
PRODID:-//Axis Church | Medford | 631.732.7682 - ECPv5.14.0.4//NONSGML v1.0//EN
CALSCALE:GREGORIAN
METHOD:PUBLISH
X-WR-CALNAME:Axis Church | Medford | 631.732.7682
X-ORIGINAL-URL:https://axisny.org
X-WR-CALDESC:Events for Axis Church | Medford | 631.732.7682
BEGIN:VTIMEZONE
TZID:UTC
BEGIN:STANDARD
TZOFFSETFROM:+0000
TZOFFSETTO:+0000
TZNAME:UTC
DTSTART:20240101T000000
END:STANDARD
END:VTIMEZONE
BEGIN:VEVENT
DTSTART;TZID=UTC:20240325T190000
DTEND;TZID=UTC:20240325T203000
DTSTAMP:20260419T165950
CREATED:20240322T183355Z
LAST-MODIFIED:20240322T183426Z
UID:2878-1711393200-1711398600@axisny.org
SUMMARY:Celebrate Recovery
DESCRIPTION:Celebrate Recovery\nAxis Church\nMonday 7:00PM\n3/25/2024
URL:https://axisny.org/event/celebrate-recovery-032524/
LOCATION:Axis Church\, 2839 NY-112\, Medford\, NY\, 11763\, United States
CATEGORIES:Outreach
ORGANIZER;CN="Axis%20Church":MAILTO:info@axisny.org
END:VEVENT
END:VCALENDAR