BEGIN:VCALENDAR
VERSION:2.0
PRODID:-//Axis Church | Medford | 631.732.7682 - ECPv5.14.0.4//NONSGML v1.0//EN
CALSCALE:GREGORIAN
METHOD:PUBLISH
X-WR-CALNAME:Axis Church | Medford | 631.732.7682
X-ORIGINAL-URL:https://axisny.org
X-WR-CALDESC:Events for Axis Church | Medford | 631.732.7682
BEGIN:VTIMEZONE
TZID:UTC
BEGIN:STANDARD
TZOFFSETFROM:+0000
TZOFFSETTO:+0000
TZNAME:UTC
DTSTART:20240101T000000
END:STANDARD
END:VTIMEZONE
BEGIN:VEVENT
DTSTART;TZID=UTC:20240115T190000
DTEND;TZID=UTC:20240115T200000
DTSTAMP:20260423T000944
CREATED:20240112T232901Z
LAST-MODIFIED:20240112T232914Z
UID:2640-1705345200-1705348800@axisny.org
SUMMARY:Celebrate Recovery
DESCRIPTION:Celebrate Recovery\nAxis Church\n7:00 PM
URL:https://axisny.org/event/celebrate-recovery-2/
LOCATION:Axis Church\, 2839 NY-112\, Medford\, NY\, 11763\, United States
ORGANIZER;CN="Axis%20Church":MAILTO:info@axisny.org
END:VEVENT
END:VCALENDAR