BEGIN:VCALENDAR
VERSION:2.0
PRODID:-//Axis Church | Medford | 631.732.7682 - ECPv5.14.0.4//NONSGML v1.0//EN
CALSCALE:GREGORIAN
METHOD:PUBLISH
X-WR-CALNAME:Axis Church | Medford | 631.732.7682
X-ORIGINAL-URL:https://axisny.org
X-WR-CALDESC:Events for Axis Church | Medford | 631.732.7682
BEGIN:VTIMEZONE
TZID:UTC
BEGIN:STANDARD
TZOFFSETFROM:+0000
TZOFFSETTO:+0000
TZNAME:UTC
DTSTART:20180101T000000
END:STANDARD
END:VTIMEZONE
BEGIN:VEVENT
DTSTART;TZID=UTC:20180331T090000
DTEND;TZID=UTC:20180331T130000
DTSTAMP:20260422T120444
CREATED:20180315T021735Z
LAST-MODIFIED:20180321T214933Z
UID:1697-1522486800-1522501200@axisny.org
SUMMARY:EASTER EGG HUNT - NEW POSTPONED DATE -
DESCRIPTION:Due to our snow storm on 3.21.18\, which would have the fields covered in snow\, we have a new date which will be the following Saturday. Same place & time. We’ll see you there!
URL:https://axisny.org/event/easteregghunt/
LOCATION:Medford Athletic Complex\, 2151 Horseblock Rd.\, Farmingville\, NY\, 11763\, United States
CATEGORIES:Community,Food,Music,Outreach
ATTACH;FMTTYPE=image/jpeg:https://axisny.org/wp-content/uploads/2018/03/IMG_3425.jpg
ORGANIZER;CN="Axis%20Church":MAILTO:info@axisny.org
END:VEVENT
END:VCALENDAR