BEGIN:VCALENDAR
VERSION:2.0
PRODID:-//Axis Church | Medford | 631.732.7682 - ECPv5.14.0.4//NONSGML v1.0//EN
CALSCALE:GREGORIAN
METHOD:PUBLISH
X-WR-CALNAME:Axis Church | Medford | 631.732.7682
X-ORIGINAL-URL:https://axisny.org
X-WR-CALDESC:Events for Axis Church | Medford | 631.732.7682
BEGIN:VTIMEZONE
TZID:UTC
BEGIN:STANDARD
TZOFFSETFROM:+0000
TZOFFSETTO:+0000
TZNAME:UTC
DTSTART:20240101T000000
END:STANDARD
END:VTIMEZONE
BEGIN:VEVENT
DTSTART;TZID=UTC:20241014T110000
DTEND;TZID=UTC:20241014T140000
DTSTAMP:20260422T085803
CREATED:20241005T004220Z
LAST-MODIFIED:20241005T004545Z
UID:3346-1728903600-1728914400@axisny.org
SUMMARY:Faith & Blue
DESCRIPTION:
URL:https://axisny.org/event/faith-blue/
CATEGORIES:Community
ATTACH;FMTTYPE=image/png:https://axisny.org/wp-content/uploads/2024/10/Faith-and-Blue-2024.pdf-2.png
END:VEVENT
END:VCALENDAR