BEGIN:VCALENDAR
VERSION:2.0
PRODID:-//Axis Church | Medford | 631.732.7682 - ECPv5.14.0.4//NONSGML v1.0//EN
CALSCALE:GREGORIAN
METHOD:PUBLISH
X-WR-CALNAME:Axis Church | Medford | 631.732.7682
X-ORIGINAL-URL:https://axisny.org
X-WR-CALDESC:Events for Axis Church | Medford | 631.732.7682
BEGIN:VTIMEZONE
TZID:UTC
BEGIN:STANDARD
TZOFFSETFROM:+0000
TZOFFSETTO:+0000
TZNAME:UTC
DTSTART:20240101T000000
END:STANDARD
END:VTIMEZONE
BEGIN:VEVENT
DTSTART;TZID=UTC:20240413T083000
DTEND;TZID=UTC:20240413T083000
DTSTAMP:20260422T120403
CREATED:20240405T163218Z
LAST-MODIFIED:20240405T163218Z
UID:2914-1712997000-1712997000@axisny.org
SUMMARY:Free Community Breakfast
DESCRIPTION:Free Community Breakfast\nSaturday\, April 13\, 2024\n8:30 am\nAxis Community Center\nPort Jefferson\, NY \nOur Free Community Breakfast is Saturday\, April 13th\nat our Axis Community Center in Port Jefferson.  \nIf you would like to volunteer\, please arrive by 8:30AM.\nWe appreciate all your help serving those in need.
URL:https://axisny.org/event/free-community-breakfast/
LOCATION:Axis Community Center\, 2839 Route 112\, Medford\, NY\, 11763
CATEGORIES:Community,Food,Outreach
ORGANIZER;CN="Axis%20Church":MAILTO:info@axisny.org
END:VEVENT
END:VCALENDAR