BEGIN:VCALENDAR
VERSION:2.0
PRODID:-//Axis Church | Medford | 631.732.7682 - ECPv5.14.0.4//NONSGML v1.0//EN
CALSCALE:GREGORIAN
METHOD:PUBLISH
X-WR-CALNAME:Axis Church | Medford | 631.732.7682
X-ORIGINAL-URL:https://axisny.org
X-WR-CALDESC:Events for Axis Church | Medford | 631.732.7682
BEGIN:VTIMEZONE
TZID:UTC
BEGIN:STANDARD
TZOFFSETFROM:+0000
TZOFFSETTO:+0000
TZNAME:UTC
DTSTART:20240101T000000
END:STANDARD
END:VTIMEZONE
BEGIN:VEVENT
DTSTART;TZID=UTC:20240717T190000
DTEND;TZID=UTC:20240717T210000
DTSTAMP:20260422T073652
CREATED:20240627T164722Z
LAST-MODIFIED:20240627T164722Z
UID:3269-1721242800-1721250000@axisny.org
SUMMARY:Free Concert - Jeannie Ortega
DESCRIPTION:Wednesday\, July 17th 2024\n7:00 pm\nAxis Cafe \nOn Wednesday\, July 17th at 7:00PM\,\nrecording artist and author Jeannie Ortega\nwill bless us with a concert and her testimony\nat the Axis Café. \nFree Concert!
URL:https://axisny.org/event/free-concert-jeannie-ortega/
LOCATION:Axis Cafe\, 2884 Rt. 112\, Medford\, 11763\, United States
CATEGORIES:Community,Concert
ORGANIZER;CN="Axis%20Church":MAILTO:info@axisny.org
END:VEVENT
END:VCALENDAR