BEGIN:VCALENDAR
VERSION:2.0
PRODID:-//Axis Church | Medford | 631.732.7682 - ECPv5.14.0.4//NONSGML v1.0//EN
CALSCALE:GREGORIAN
METHOD:PUBLISH
X-WR-CALNAME:Axis Church | Medford | 631.732.7682
X-ORIGINAL-URL:https://axisny.org
X-WR-CALDESC:Events for Axis Church | Medford | 631.732.7682
BEGIN:VTIMEZONE
TZID:UTC
BEGIN:STANDARD
TZOFFSETFROM:+0000
TZOFFSETTO:+0000
TZNAME:UTC
DTSTART:20180101T000000
END:STANDARD
END:VTIMEZONE
BEGIN:VEVENT
DTSTART;VALUE=DATE:20180330
DTEND;VALUE=DATE:20180402
DTSTAMP:20260422T132900
CREATED:20180315T022959Z
LAST-MODIFIED:20180315T022959Z
UID:1707-1522368000-1522627199@axisny.org
SUMMARY:GOOD FRIDAY / EASTER SERVICES
DESCRIPTION:GOOD FRIDAY – March 30th @7pm {MEDFORD ONLY} \nEASTER SERVICE (SPECIAL SATURDAY EDITION) – March 31st @7pm {MEDFORD ONLY} \nEASTER SERVICE’S – Sunday\, April 1st {MEDFORD = 9am\, 11am\, & 12:30pm}
URL:https://axisny.org/event/good-friday-easter-services/
LOCATION:Axis Church\, 2839 NY-112\, Medford\, NY\, 11763\, United States
ATTACH;FMTTYPE=image/jpeg:https://axisny.org/wp-content/uploads/2018/03/Easter-Services.jpg
ORGANIZER;CN="Axis%20Church":MAILTO:info@axisny.org
END:VEVENT
END:VCALENDAR