BEGIN:VCALENDAR
VERSION:2.0
PRODID:-//Axis Church | Medford | 631.732.7682 - ECPv5.14.0.4//NONSGML v1.0//EN
CALSCALE:GREGORIAN
METHOD:PUBLISH
X-WR-CALNAME:Axis Church | Medford | 631.732.7682
X-ORIGINAL-URL:https://axisny.org
X-WR-CALDESC:Events for Axis Church | Medford | 631.732.7682
BEGIN:VTIMEZONE
TZID:UTC
BEGIN:STANDARD
TZOFFSETFROM:+0000
TZOFFSETTO:+0000
TZNAME:UTC
DTSTART:20240101T000000
END:STANDARD
END:VTIMEZONE
BEGIN:VEVENT
DTSTART;VALUE=DATE:20240623
DTEND;VALUE=DATE:20240624
DTSTAMP:20260422T154437
CREATED:20240519T213651Z
LAST-MODIFIED:20240531T171652Z
UID:3117-1719100800-1719187199@axisny.org
SUMMARY:Graduation Sunday
DESCRIPTION:Sunday\, June 23rd  \nGraduation Sunday\nIf your child is graduating high school\, please let the office know.\n**More Details to Come**
URL:https://axisny.org/event/graduation-sunday-2/
END:VEVENT
END:VCALENDAR