BEGIN:VCALENDAR
VERSION:2.0
PRODID:-//Axis Church | Medford | 631.732.7682 - ECPv5.14.0.4//NONSGML v1.0//EN
CALSCALE:GREGORIAN
METHOD:PUBLISH
X-WR-CALNAME:Axis Church | Medford | 631.732.7682
X-ORIGINAL-URL:https://axisny.org
X-WR-CALDESC:Events for Axis Church | Medford | 631.732.7682
BEGIN:VTIMEZONE
TZID:UTC
BEGIN:STANDARD
TZOFFSETFROM:+0000
TZOFFSETTO:+0000
TZNAME:UTC
DTSTART:20180101T000000
END:STANDARD
END:VTIMEZONE
BEGIN:VEVENT
DTSTART;TZID=UTC:20180610T110000
DTEND;TZID=UTC:20180610T110000
DTSTAMP:20260423T000839
CREATED:20180505T171829Z
LAST-MODIFIED:20180505T171829Z
UID:1729-1528628400-1528628400@axisny.org
SUMMARY:GRADUATION SUNDAY
DESCRIPTION:Available at all our locations. Please call our church office (631-732-7682\,) and let them know which location you go to if you’re graduating from High School this year.
URL:https://axisny.org/event/graduation-sunday/
END:VEVENT
END:VCALENDAR