BEGIN:VCALENDAR
VERSION:2.0
PRODID:-//Axis Church | Medford | 631.732.7682 - ECPv5.14.0.4//NONSGML v1.0//EN
CALSCALE:GREGORIAN
METHOD:PUBLISH
X-WR-CALNAME:Axis Church | Medford | 631.732.7682
X-ORIGINAL-URL:https://axisny.org
X-WR-CALDESC:Events for Axis Church | Medford | 631.732.7682
BEGIN:VTIMEZONE
TZID:UTC
BEGIN:STANDARD
TZOFFSETFROM:+0000
TZOFFSETTO:+0000
TZNAME:UTC
DTSTART:20240101T000000
END:STANDARD
END:VTIMEZONE
BEGIN:VEVENT
DTSTART;TZID=UTC:20240319T190000
DTEND;TZID=UTC:20240319T203000
DTSTAMP:20260422T060343
CREATED:20240318T151546Z
LAST-MODIFIED:20240318T151614Z
UID:2822-1710874800-1710880200@axisny.org
SUMMARY:Grief Share
DESCRIPTION:Tuesday 03/19\nGrief Share\n@ Axis Church\n7:00 pm
URL:https://axisny.org/event/grief-share-031924/
LOCATION:Axis Church\, 2839 NY-112\, Medford\, NY\, 11763\, United States
CATEGORIES:Outreach
ORGANIZER;CN="Axis%20Church":MAILTO:info@axisny.org
END:VEVENT
END:VCALENDAR