BEGIN:VCALENDAR
VERSION:2.0
PRODID:-//Axis Church | Medford | 631.732.7682 - ECPv5.14.0.4//NONSGML v1.0//EN
CALSCALE:GREGORIAN
METHOD:PUBLISH
X-WR-CALNAME:Axis Church | Medford | 631.732.7682
X-ORIGINAL-URL:https://axisny.org
X-WR-CALDESC:Events for Axis Church | Medford | 631.732.7682
BEGIN:VTIMEZONE
TZID:UTC
BEGIN:STANDARD
TZOFFSETFROM:+0000
TZOFFSETTO:+0000
TZNAME:UTC
DTSTART:20240101T000000
END:STANDARD
END:VTIMEZONE
BEGIN:VEVENT
DTSTART;TZID=UTC:20240606T190000
DTEND;TZID=UTC:20240606T203000
DTSTAMP:20260422T120711
CREATED:20240519T213204Z
LAST-MODIFIED:20240523T212439Z
UID:3110-1717700400-1717705800@axisny.org
SUMMARY:Hope Day Rally
DESCRIPTION:Thursday\, June 6th \n7:00 pm\n@ Freedom Chapel\nHope Day Rally \n**More Details to Come**
URL:https://axisny.org/event/hope-day-2024-rally/
LOCATION:Freedom Chapel International Worship Center\, 641 Broadway\, Amityville\, NY\, 11701\, United States
CATEGORIES:Community,Volunteer
ORGANIZER;CN="Axis%20Church":MAILTO:info@axisny.org
END:VEVENT
END:VCALENDAR