BEGIN:VCALENDAR
VERSION:2.0
PRODID:-//Axis Church | Medford | 631.732.7682 - ECPv5.14.0.4//NONSGML v1.0//EN
CALSCALE:GREGORIAN
METHOD:PUBLISH
X-WR-CALNAME:Axis Church | Medford | 631.732.7682
X-ORIGINAL-URL:https://axisny.org
X-WR-CALDESC:Events for Axis Church | Medford | 631.732.7682
BEGIN:VTIMEZONE
TZID:UTC
BEGIN:STANDARD
TZOFFSETFROM:+0000
TZOFFSETTO:+0000
TZNAME:UTC
DTSTART:20240101T000000
END:STANDARD
END:VTIMEZONE
BEGIN:VEVENT
DTSTART;TZID=UTC:20240608T110000
DTEND;TZID=UTC:20240608T140000
DTSTAMP:20260422T131119
CREATED:20240426T194742Z
LAST-MODIFIED:20240426T194742Z
UID:2998-1717844400-1717855200@axisny.org
SUMMARY:Hope Day 2024
DESCRIPTION:Saturday\, June 8th \n11:00AM-2:00PM\nVolunteers Need to Arrive by 9:00AM\nAXIS Café 2884 Route 112 \nOur Office will contact all Volunteers\nwith more information Regarding HopeDay \nVolunteer Scan Here to Sign up:
URL:https://axisny.org/event/hope-day-2024/
LOCATION:Axis Cafe\, 2884 Rt. 112\, Medford\, 11763\, United States
CATEGORIES:Community,Volunteer
ORGANIZER;CN="Axis%20Church":MAILTO:info@axisny.org
END:VEVENT
END:VCALENDAR