BEGIN:VCALENDAR
VERSION:2.0
PRODID:-//Axis Church | Medford | 631.732.7682 - ECPv5.14.0.4//NONSGML v1.0//EN
CALSCALE:GREGORIAN
METHOD:PUBLISH
X-WR-CALNAME:Axis Church | Medford | 631.732.7682
X-ORIGINAL-URL:https://axisny.org
X-WR-CALDESC:Events for Axis Church | Medford | 631.732.7682
BEGIN:VTIMEZONE
TZID:UTC
BEGIN:STANDARD
TZOFFSETFROM:+0000
TZOFFSETTO:+0000
TZNAME:UTC
DTSTART:20240101T000000
END:STANDARD
END:VTIMEZONE
BEGIN:VEVENT
DTSTART;TZID=UTC:20240527T100000
DTEND;TZID=UTC:20240527T133000
DTSTAMP:20260422T144431
CREATED:20240519T213124Z
LAST-MODIFIED:20240523T212519Z
UID:3108-1716804000-1716816600@axisny.org
SUMMARY:Memorial Day Parade
DESCRIPTION:Memorial Day Parade\nMonday\, May 27th\, 2024 \nLine up – 10:00 AM\n@ Tremont Elementary
URL:https://axisny.org/event/memorial-day-parade/
END:VEVENT
END:VCALENDAR