BEGIN:VCALENDAR
VERSION:2.0
PRODID:-//Axis Church | Medford | 631.732.7682 - ECPv5.14.0.4//NONSGML v1.0//EN
CALSCALE:GREGORIAN
METHOD:PUBLISH
X-WR-CALNAME:Axis Church | Medford | 631.732.7682
X-ORIGINAL-URL:https://axisny.org
X-WR-CALDESC:Events for Axis Church | Medford | 631.732.7682
BEGIN:VTIMEZONE
TZID:UTC
BEGIN:STANDARD
TZOFFSETFROM:+0000
TZOFFSETTO:+0000
TZNAME:UTC
DTSTART:20240101T000000
END:STANDARD
END:VTIMEZONE
BEGIN:VEVENT
DTSTART;TZID=UTC:20240330T190000
DTEND;TZID=UTC:20240330T210000
DTSTAMP:20260422T145007
CREATED:20240303T014327Z
LAST-MODIFIED:20240303T014327Z
UID:2741-1711825200-1711832400@axisny.org
SUMMARY:Night of Testimonies and Water Baptism
DESCRIPTION:Night of Testimonies and Water Baptism \nThe night of testimonies and water baptism is on Saturday\, March 30th at 7:00pm.\nIf you would like to be baptized\, please sign up at the information desk.\nAll who want to be baptized must attend mandatory meeting on Sunday March 24th directly after service in sanctuary.
URL:https://axisny.org/event/night-of-testimonies-and-water-baptism-2/
LOCATION:Axis Church\, 2839 NY-112\, Medford\, NY\, 11763\, United States
ORGANIZER;CN="Axis%20Church":MAILTO:info@axisny.org
END:VEVENT
END:VCALENDAR