BEGIN:VCALENDAR
VERSION:2.0
PRODID:-//Axis Church | Medford | 631.732.7682 - ECPv5.14.0.4//NONSGML v1.0//EN
CALSCALE:GREGORIAN
METHOD:PUBLISH
X-WR-CALNAME:Axis Church | Medford | 631.732.7682
X-ORIGINAL-URL:https://axisny.org
X-WR-CALDESC:Events for Axis Church | Medford | 631.732.7682
BEGIN:VTIMEZONE
TZID:UTC
BEGIN:STANDARD
TZOFFSETFROM:+0000
TZOFFSETTO:+0000
TZNAME:UTC
DTSTART:20240101T000000
END:STANDARD
END:VTIMEZONE
BEGIN:VEVENT
DTSTART;TZID=UTC:20240316T093000
DTEND;TZID=UTC:20240316T110000
DTSTAMP:20260422T120341
CREATED:20240312T181009Z
LAST-MODIFIED:20240312T181009Z
UID:2782-1710581400-1710586800@axisny.org
SUMMARY:Outreach Breakfast
DESCRIPTION:Join us for our Community Outreach Breakfast\nAxis Community Center\n9:30 – 11:00 AM\nSaturday\, 3/16
URL:https://axisny.org/event/outreach-breakfast/
LOCATION:Axis Community Center\, 2839 Route 112\, Medford\, NY\, 11763
CATEGORIES:Community,Fellowship,Outreach
ORGANIZER;CN="Axis%20Church":MAILTO:info@axisny.org
END:VEVENT
END:VCALENDAR