BEGIN:VCALENDAR
VERSION:2.0
PRODID:-//Axis Church | Medford | 631.732.7682 - ECPv5.14.0.4//NONSGML v1.0//EN
CALSCALE:GREGORIAN
METHOD:PUBLISH
X-WR-CALNAME:Axis Church | Medford | 631.732.7682
X-ORIGINAL-URL:https://axisny.org
X-WR-CALDESC:Events for Axis Church | Medford | 631.732.7682
BEGIN:VTIMEZONE
TZID:UTC
BEGIN:STANDARD
TZOFFSETFROM:+0000
TZOFFSETTO:+0000
TZNAME:UTC
DTSTART:20240101T000000
END:STANDARD
END:VTIMEZONE
BEGIN:VEVENT
DTSTART;TZID=UTC:20240109T190000
DTEND;TZID=UTC:20240109T200000
DTSTAMP:20260423T045309
CREATED:20240110T170111Z
LAST-MODIFIED:20240110T170205Z
UID:2637-1704826800-1704830400@axisny.org
SUMMARY:Prayer Night - Pray For Our Nation and Israel
DESCRIPTION:Join us at 7pm for Prayer Night\nTheme: Pray For Our Nation and Israel
URL:https://axisny.org/event/prayer-night-pray-for-our-nation-and-israel/
LOCATION:Virtual
ORGANIZER;CN="Axis%20Church":MAILTO:info@axisny.org
END:VEVENT
END:VCALENDAR