BEGIN:VCALENDAR
VERSION:2.0
PRODID:-//Axis Church | Medford | 631.732.7682 - ECPv5.14.0.4//NONSGML v1.0//EN
CALSCALE:GREGORIAN
METHOD:PUBLISH
X-WR-CALNAME:Axis Church | Medford | 631.732.7682
X-ORIGINAL-URL:https://axisny.org
X-WR-CALDESC:Events for Axis Church | Medford | 631.732.7682
BEGIN:VTIMEZONE
TZID:UTC
BEGIN:STANDARD
TZOFFSETFROM:+0000
TZOFFSETTO:+0000
TZNAME:UTC
DTSTART:20240101T000000
END:STANDARD
END:VTIMEZONE
BEGIN:VEVENT
DTSTART;VALUE=DATE:20240331
DTEND;VALUE=DATE:20240401
DTSTAMP:20260422T130807
CREATED:20240329T191045Z
LAST-MODIFIED:20240329T191723Z
UID:2905-1711843200-1711929599@axisny.org
SUMMARY:Prayer Requests for the 4th Week of March 2024
DESCRIPTION:Axis Prayer Requests for this week\nI TIMOTHY 2:1\nI urge\, then\, first of all\, that requests\, prayers\, intercession and\nThanksgiving be made for everyone… \nPRAYER REQUESTS:\n– Liz Moore: Touch in Body\n– Ron\, Renee Tiskevics Father: Touch in Body\n– Lorraine Dombrowski: Healing from Parkinson’s Disease\n– Liz Rotella: Touch in Body\n– Amanda Wiermann: Complete Healing\n– Anthony Mongiello: Touch in Body\n– Margaret Ellis: Touch in Body
URL:https://axisny.org/event/prayer-requests-033124/
CATEGORIES:Prayer Request
END:VEVENT
END:VCALENDAR