BEGIN:VCALENDAR
VERSION:2.0
PRODID:-//Axis Church | Medford | 631.732.7682 - ECPv5.14.0.4//NONSGML v1.0//EN
CALSCALE:GREGORIAN
METHOD:PUBLISH
X-WR-CALNAME:Axis Church | Medford | 631.732.7682
X-ORIGINAL-URL:https://axisny.org
X-WR-CALDESC:Events for Axis Church | Medford | 631.732.7682
BEGIN:VTIMEZONE
TZID:UTC
BEGIN:STANDARD
TZOFFSETFROM:+0000
TZOFFSETTO:+0000
TZNAME:UTC
DTSTART:20240101T000000
END:STANDARD
END:VTIMEZONE
BEGIN:VEVENT
DTSTART;TZID=UTC:20240407T101500
DTEND;TZID=UTC:20240407T120000
DTSTAMP:20260422T154431
CREATED:20240405T164922Z
LAST-MODIFIED:20240405T165242Z
UID:2930-1712484900-1712491200@axisny.org
SUMMARY:Sunday Service - Axis Church Welcomes: Lee Rouson
DESCRIPTION:Join us for Worship\nPrayer at 9:45 \nService Time\n10:15 AM – Worship Service \nAxis Church Welcomes: \nLee Rouson\n2 TIMOTHY 2:11\nHere is a trustworthy saying: If we died with him\, we will also live with him \nDigital Bulletin:\nhttps://axisny.org/wp-content/uploads/2024/04/Bulletin-4.7.24.pdf \n**PLEASE DO NOT park at the Fire Department or VERIZON.**
URL:https://axisny.org/event/sunday-service-sermon-040724/
LOCATION:Axis Church\, 2839 NY-112\, Medford\, NY\, 11763\, United States
CATEGORIES:Worship Service
ORGANIZER;CN="Axis%20Church":MAILTO:info@axisny.org
END:VEVENT
END:VCALENDAR