BEGIN:VCALENDAR
VERSION:2.0
PRODID:-//Axis Church | Medford | 631.732.7682 - ECPv5.14.0.4//NONSGML v1.0//EN
CALSCALE:GREGORIAN
METHOD:PUBLISH
X-WR-CALNAME:Axis Church | Medford | 631.732.7682
X-ORIGINAL-URL:https://axisny.org
X-WR-CALDESC:Events for Axis Church | Medford | 631.732.7682
BEGIN:VTIMEZONE
TZID:UTC
BEGIN:STANDARD
TZOFFSETFROM:+0000
TZOFFSETTO:+0000
TZNAME:UTC
DTSTART:20240101T000000
END:STANDARD
END:VTIMEZONE
BEGIN:VEVENT
DTSTART;TZID=UTC:20240127T083000
DTEND;TZID=UTC:20240127T123000
DTSTAMP:20260422T234536
CREATED:20240112T233153Z
LAST-MODIFIED:20240112T233153Z
UID:2642-1706344200-1706358600@axisny.org
SUMMARY:Upcoming Men's & Women's Dates
DESCRIPTION:Fellowship at Axis Cafe\nMen’s: Saturday. January 27th at 8:30am\nWomen’s: Saturday. January 27th at 10:30am
URL:https://axisny.org/event/upcoming-mens-womens-dates/
LOCATION:Axis Cafe\, 2884 Rt. 112\, Medford\, 11763\, United States
CATEGORIES:Community
END:VEVENT
END:VCALENDAR