BEGIN:VCALENDAR
VERSION:2.0
PRODID:-//Axis Church | Medford | 631.732.7682 - ECPv5.14.0.4//NONSGML v1.0//EN
CALSCALE:GREGORIAN
METHOD:PUBLISH
X-WR-CALNAME:Axis Church | Medford | 631.732.7682
X-ORIGINAL-URL:https://axisny.org
X-WR-CALDESC:Events for Axis Church | Medford | 631.732.7682
BEGIN:VTIMEZONE
TZID:UTC
BEGIN:STANDARD
TZOFFSETFROM:+0000
TZOFFSETTO:+0000
TZNAME:UTC
DTSTART:20240101T000000
END:STANDARD
END:VTIMEZONE
BEGIN:VEVENT
DTSTART;TZID=UTC:20240214T190000
DTEND;TZID=UTC:20240214T210000
DTSTAMP:20260422T133104
CREATED:20240112T233428Z
LAST-MODIFIED:20240126T192429Z
UID:2644-1707937200-1707944400@axisny.org
SUMMARY:Valentine's Day Dinner & Comedy Night
DESCRIPTION:Our Valentine’s Day Dinner & Comedy Night\nis on Wednesday the 14th\,\nit is $60 Per couple (Non-refundable). \nThere is limited seating\, so it’s first come first serve.
URL:https://axisny.org/event/valentines-day-dinner-comedy-night/
CATEGORIES:Community,Food
ORGANIZER;CN="Axis%20Church":MAILTO:info@axisny.org
END:VEVENT
END:VCALENDAR