BEGIN:VCALENDAR
VERSION:2.0
PRODID:-//Axis Church | Medford | 631.732.7682 - ECPv5.14.0.4//NONSGML v1.0//EN
CALSCALE:GREGORIAN
METHOD:PUBLISH
X-WR-CALNAME:Axis Church | Medford | 631.732.7682
X-ORIGINAL-URL:https://axisny.org
X-WR-CALDESC:Events for Axis Church | Medford | 631.732.7682
BEGIN:VTIMEZONE
TZID:UTC
BEGIN:STANDARD
TZOFFSETFROM:+0000
TZOFFSETTO:+0000
TZNAME:UTC
DTSTART:20170101T000000
END:STANDARD
END:VTIMEZONE
BEGIN:VEVENT
DTSTART;TZID=UTC:20171014T183000
DTEND;TZID=UTC:20171014T183000
DTSTAMP:20260424T230512
CREATED:20170903T060105Z
LAST-MODIFIED:20170906T204206Z
UID:1467-1508005800-1508005800@axisny.org
SUMMARY:WE ARE 1 MOVEMENT
DESCRIPTION:$5 BEFORE OCT. 3 AND $10 AT THE DOOR\nMail checks to: 2839 Route 112 Medford\, Ny 11763\nChecks payable to: L.I. Section\nGot Questions? Call (631) 732-7682\n*Sorry\, Tickets are non-refundable.
URL:https://axisny.org/event/we-are-1-movement/
LOCATION:Bethlehem Assembly of God Church\, 12 E Fairview Ave\, Valley Stream\, NY\, 11580\, United States
CATEGORIES:Community,Music
ATTACH;FMTTYPE=image/jpeg:https://axisny.org/wp-content/uploads/2017/09/weare1-flyer-web.jpg
ORGANIZER;CN="Axis%20Church":MAILTO:info@axisny.org
END:VEVENT
END:VCALENDAR