BEGIN:VCALENDAR
VERSION:2.0
PRODID:-//Axis Church | Medford | 631.732.7682 - ECPv5.14.0.4//NONSGML v1.0//EN
CALSCALE:GREGORIAN
METHOD:PUBLISH
X-WR-CALNAME:Axis Church | Medford | 631.732.7682
X-ORIGINAL-URL:https://axisny.org
X-WR-CALDESC:Events for Axis Church | Medford | 631.732.7682
BEGIN:VTIMEZONE
TZID:UTC
BEGIN:STANDARD
TZOFFSETFROM:+0000
TZOFFSETTO:+0000
TZNAME:UTC
DTSTART:20240101T000000
END:STANDARD
END:VTIMEZONE
BEGIN:VEVENT
DTSTART;TZID=UTC:20240420T103000
DTEND;TZID=UTC:20240420T123000
DTSTAMP:20260422T132545
CREATED:20240312T175002Z
LAST-MODIFIED:20240312T175028Z
UID:2762-1713609000-1713616200@axisny.org
SUMMARY:Women's Group
DESCRIPTION:SATURDAY 4/20\nWomen’s Group\nAxis Café\n10:30AM
URL:https://axisny.org/event/womens-group-042024/
LOCATION:Axis Cafe\, 2884 Rt. 112\, Medford\, 11763\, United States
CATEGORIES:Bible Study,Outreach,Young Adults
ORGANIZER;CN="Axis%20Church":MAILTO:info@axisny.org
END:VEVENT
END:VCALENDAR