BEGIN:VCALENDAR
VERSION:2.0
PRODID:-//Axis Church | Medford | 631.732.7682 - ECPv5.14.0.4//NONSGML v1.0//EN
CALSCALE:GREGORIAN
METHOD:PUBLISH
X-WR-CALNAME:Axis Church | Medford | 631.732.7682
X-ORIGINAL-URL:https://axisny.org
X-WR-CALDESC:Events for Axis Church | Medford | 631.732.7682
BEGIN:VTIMEZONE
TZID:UTC
BEGIN:STANDARD
TZOFFSETFROM:+0000
TZOFFSETTO:+0000
TZNAME:UTC
DTSTART:20240101T000000
END:STANDARD
END:VTIMEZONE
BEGIN:VEVENT
DTSTART;TZID=UTC:20240328T193000
DTEND;TZID=UTC:20240328T213000
DTSTAMP:20260419T112204
CREATED:20240322T183938Z
LAST-MODIFIED:20240322T184054Z
UID:2885-1711654200-1711661400@axisny.org
SUMMARY:Young Adults
DESCRIPTION:THURSDAY 03/28\nYoung Adults\nAxis Café\n7:30PM
URL:https://axisny.org/event/young-adults-032824/
LOCATION:Axis Cafe\, 2884 Rt. 112\, Medford\, 11763\, United States
CATEGORIES:Bible Study,Outreach,Young Adults
ORGANIZER;CN="Axis%20Church":MAILTO:info@axisny.org
END:VEVENT
END:VCALENDAR