BEGIN:VCALENDAR
VERSION:2.0
PRODID:-//Axis Church | Medford | 631.732.7682 - ECPv5.14.0.4//NONSGML v1.0//EN
CALSCALE:GREGORIAN
METHOD:PUBLISH
X-WR-CALNAME:Axis Church | Medford | 631.732.7682
X-ORIGINAL-URL:https://axisny.org
X-WR-CALDESC:Events for Axis Church | Medford | 631.732.7682
BEGIN:VTIMEZONE
TZID:UTC
BEGIN:STANDARD
TZOFFSETFROM:+0000
TZOFFSETTO:+0000
TZNAME:UTC
DTSTART:20240101T000000
END:STANDARD
END:VTIMEZONE
BEGIN:VEVENT
DTSTART;TZID=UTC:20240714T101500
DTEND;TZID=UTC:20240714T120000
DTSTAMP:20260419T135443
CREATED:20240627T164349Z
LAST-MODIFIED:20240627T164349Z
UID:3266-1720952100-1720958400@axisny.org
SUMMARY:Church in the Park
DESCRIPTION:On Sunday\, July 14th is our “Church in the Park’\nat the Medford Memorial Park at 10:15AM.\n(Rain date is Sunday the 21st).  \nInvite a friend for this morning of fellowship!
URL:https://axisny.org/event/church-in-the-park-2024/
LOCATION:Medford Memorial Park\, Medford\, NY\, United States
CATEGORIES:Community,Fellowship,Outreach,Worship Service
ORGANIZER;CN="Axis%20Church":MAILTO:info@axisny.org
END:VEVENT
END:VCALENDAR